BEGIN:VCALENDAR
PRODID:-//Microsoft Corporation//Outlook 12.0 MIMEDIR//EN
VERSION:2.0
CALSCALE:GREGORIAN
BEGIN:VEVENT
UID: 9d660c78-82e2-46b8-a93b-ceb2a89e6087
SUMMARY:Koigi Koolis Tenno Looduskool
DTSTAMP:20260507
DTSTART:20260507
DTEND:20260508
DURATION:P1D
LOCATION:
DESCRIPTION: <p><a class="st-link" style="-webkit-text-stroke-width:0px;background-color:rgb(252, 254, 255);border-width:0px;box-sizing:border-box;color:rgb(66, 139, 202);font-family:&quot;Stuudium Sans&quot;, BlinkMacSystemFont, -apple-system, &quot;Segoe UI&quot;, Roboto, Helvetica, Arial, sans-serif;font-feature-settings:inherit;font-kerning:inherit;font-language-override:inherit;font-optical-sizing:inherit;font-size-adjust:inherit;font-size:15px;font-stretch:inherit;font-style:normal;font-variant-alternates:inherit;font-variant-caps:normal;font-variant-east-asian:inherit;font-variant-emoji:inherit;font-variant-ligatures:normal;font-variant-numeric:inherit;font-variant-position:inherit;font-variation-settings:inherit;font-weight:400;letter-spacing:-0.135px;line-height:inherit;margin:0px;orphans:2;padding:0px;text-align:start;text-indent:0px;text-transform:none;user-select:all;vertical-align:baseline;white-space:normal;widows:2;word-spacing:0px;" href="https://r.stuudium.link/?link=https%3A%2F%2Ftennomatkad.ee%2F%25f0%259f%258f%2583-metsloomade-olumpia%2F&amp;sp=c2NsPWtvaWdpa29vbA&amp;ssig=260402-36dba4439fc128fec1c4582f4191f3a33f882b80&amp;rdsig=260402.rdk1.xcfyfWWyJ0dGfbLS4dAZaNS3830veyi1ZoUjAd_svZZx8JDUxwbSzfL-AD1GlDKqr57lXRbbLNjZsZGM7ZeIAA" target="_blank" rel="noopener noreferrer"><em><i class="slh" style="border-width:0px;box-sizing:border-box;font-family:inherit;font-feature-settings:inherit;font-kerning:inherit;font-language-override:inherit;font-optical-sizing:inherit;font-size-adjust:inherit;font-size:0px !important;font-stretch:inherit;font-style:inherit;font-variant:inherit;font-variation-settings:inherit;font-weight:inherit;line-height:0 !important;margin:0px;padding:0px;vertical-align:baseline;">https://</i></em>tennomatkad.ee/%f0%9f%8f%83-metsloomade-olumpia</a></p><p><strong>Link: </strong>https://koigikool.ee/et/sundmuste-kalender/koigi-koolis-tenno-looduskool</p><p><strong>Hind: </strong></p>
STATUS:CONFIRMED
SEQUENCE:3
X-ALT-DESC;FMTTYPE=text/html:<p><a class="st-link" style="-webkit-text-stroke-width:0px;background-color:rgb(252, 254, 255);border-width:0px;box-sizing:border-box;color:rgb(66, 139, 202);font-family:&quot;Stuudium Sans&quot;, BlinkMacSystemFont, -apple-system, &quot;Segoe UI&quot;, Roboto, Helvetica, Arial, sans-serif;font-feature-settings:inherit;font-kerning:inherit;font-language-override:inherit;font-optical-sizing:inherit;font-size-adjust:inherit;font-size:15px;font-stretch:inherit;font-style:normal;font-variant-alternates:inherit;font-variant-caps:normal;font-variant-east-asian:inherit;font-variant-emoji:inherit;font-variant-ligatures:normal;font-variant-numeric:inherit;font-variant-position:inherit;font-variation-settings:inherit;font-weight:400;letter-spacing:-0.135px;line-height:inherit;margin:0px;orphans:2;padding:0px;text-align:start;text-indent:0px;text-transform:none;user-select:all;vertical-align:baseline;white-space:normal;widows:2;word-spacing:0px;" href="https://r.stuudium.link/?link=https%3A%2F%2Ftennomatkad.ee%2F%25f0%259f%258f%2583-metsloomade-olumpia%2F&amp;sp=c2NsPWtvaWdpa29vbA&amp;ssig=260402-36dba4439fc128fec1c4582f4191f3a33f882b80&amp;rdsig=260402.rdk1.xcfyfWWyJ0dGfbLS4dAZaNS3830veyi1ZoUjAd_svZZx8JDUxwbSzfL-AD1GlDKqr57lXRbbLNjZsZGM7ZeIAA" target="_blank" rel="noopener noreferrer"><em><i class="slh" style="border-width:0px;box-sizing:border-box;font-family:inherit;font-feature-settings:inherit;font-kerning:inherit;font-language-override:inherit;font-optical-sizing:inherit;font-size-adjust:inherit;font-size:0px !important;font-stretch:inherit;font-style:inherit;font-variant:inherit;font-variation-settings:inherit;font-weight:inherit;line-height:0 !important;margin:0px;padding:0px;vertical-align:baseline;">https://</i></em>tennomatkad.ee/%f0%9f%8f%83-metsloomade-olumpia</a></p><p><strong>Link: </strong>https://koigikool.ee/et/sundmuste-kalender/koigi-koolis-tenno-looduskool</p><p><strong>Hind: </strong></p>
X-MICROSOFT-CDO-BUSYSTATUS:OOF
X-MICROSOFT-CDO-IMPORTANCE:1
X-MICROSOFT-DISALLOW-COUNTER:FALSE
X-MS-OLK-ALLOWEXTERNCHECK:TRUE
X-MS-OLK-CONFTYPE:0
X-MICROSOFT-CDO-ALLDAYEVENT:1
X-MICROSOFT-MSNCALENDAR-ALLDAYEVENT:1
END:VEVENT
END:VCALENDAR