BEGIN:VCALENDAR
PRODID:-//Microsoft Corporation//Outlook 12.0 MIMEDIR//EN
VERSION:2.0
CALSCALE:GREGORIAN
BEGIN:VEVENT
UID: a1bf61f2-a005-4bee-8a6b-5d0cb5e1a6c7
SUMMARY:Koigi Koolis jüripäeva tähistamine
DTSTAMP:20260423
DTSTART:20260423
DTEND:20260425
DURATION:P2D
LOCATION:
DESCRIPTION: <p>Koigi Koolis jüpripäeva tähistamine orienteerumise, disko ja ööbimisega koolimajas</p><p><strong>Link: </strong>https://koigikool.ee/et/sundmuste-kalender/koigi-koolis-juripaeva-tahistamine</p><p><strong>Hind: </strong></p>
STATUS:CONFIRMED
SEQUENCE:3
X-ALT-DESC;FMTTYPE=text/html:<p>Koigi Koolis jüpripäeva tähistamine orienteerumise, disko ja ööbimisega koolimajas</p><p><strong>Link: </strong>https://koigikool.ee/et/sundmuste-kalender/koigi-koolis-juripaeva-tahistamine</p><p><strong>Hind: </strong></p>
X-MICROSOFT-CDO-BUSYSTATUS:OOF
X-MICROSOFT-CDO-IMPORTANCE:1
X-MICROSOFT-DISALLOW-COUNTER:FALSE
X-MS-OLK-ALLOWEXTERNCHECK:TRUE
X-MS-OLK-CONFTYPE:0
X-MICROSOFT-CDO-ALLDAYEVENT:1
X-MICROSOFT-MSNCALENDAR-ALLDAYEVENT:1
END:VEVENT
END:VCALENDAR